BEGIN:VCALENDAR
VERSION:2.0
PRODID:-//Ski Sunlight Mountain - ECPv6.15.18//NONSGML v1.0//EN
CALSCALE:GREGORIAN
METHOD:PUBLISH
X-WR-CALNAME:Ski Sunlight Mountain
X-ORIGINAL-URL:https://sunlightmtn.com
X-WR-CALDESC:Events for Ski Sunlight Mountain
REFRESH-INTERVAL;VALUE=DURATION:PT1H
X-Robots-Tag:noindex
X-PUBLISHED-TTL:PT1H
BEGIN:VTIMEZONE
TZID:UTC
BEGIN:STANDARD
TZOFFSETFROM:+0000
TZOFFSETTO:+0000
TZNAME:UTC
DTSTART:20250101T000000
END:STANDARD
END:VTIMEZONE
BEGIN:VEVENT
DTSTART;VALUE=DATE:20260109
DTEND;VALUE=DATE:20260110
DTSTAMP:20260423T105102
CREATED:20251107T171636Z
LAST-MODIFIED:20251224T181931Z
UID:10000015-1767916800-1768003199@sunlightmtn.com
SUMMARY:Skier Appreciation Day - Slopeside Circus
DESCRIPTION:Come see the carnival on the ski slope! Ski or ride for $25! Help us raise money for the Two Rivers Community Foundation\, which helps distribute funds to local non-profits… all ticket sales go directly to the foundation. Circus-themed costume contest\, doughnut eating contest\, giveaways\, and more!
URL:https://sunlightmtn.com/event/skier-appreciation-day/
LOCATION:Sunlight Mountain\, 10901 County Road 117\, Glenwood Springs\, CO\, 81601\, United States
CATEGORIES:Fundraiser
ATTACH;FMTTYPE=image/jpeg:https://sunlightmtn.com/wp-content/uploads/2025/11/ski-sunlight-colorado-scaled.jpg
END:VEVENT
END:VCALENDAR