BEGIN:VCALENDAR
VERSION:2.0
PRODID:-//Ski Sunlight Mountain - ECPv6.15.18//NONSGML v1.0//EN
CALSCALE:GREGORIAN
METHOD:PUBLISH
X-ORIGINAL-URL:https://sunlightmtn.com
X-WR-CALDESC:Events for Ski Sunlight Mountain
REFRESH-INTERVAL;VALUE=DURATION:PT1H
X-Robots-Tag:noindex
X-PUBLISHED-TTL:PT1H
BEGIN:VTIMEZONE
TZID:UTC
BEGIN:STANDARD
TZOFFSETFROM:+0000
TZOFFSETTO:+0000
TZNAME:UTC
DTSTART:20250101T000000
END:STANDARD
END:VTIMEZONE
BEGIN:VEVENT
DTSTART;TZID=UTC:20260515T180000
DTEND;TZID=UTC:20260515T200000
DTSTAMP:20260420T081759
CREATED:20260326T190903Z
LAST-MODIFIED:20260410T165249Z
UID:10000039-1778868000-1778875200@sunlightmtn.com
SUMMARY:Parking Lot Skills Clinic
DESCRIPTION:Corner like a pro (eventually) \n\nLearn basic and advanced cornering skills in a controlled environment\nDrills will be set up for all levels of riders\nGuaranteed to increase your trail speed\nThis clinic will be followed up on 5/29 with an on trail cornering clinic at CMC where you can put your parking lot skills into action out on the trail\n\n  \nDoors open for a light social hour at 5:30 pm at Sunlight Ski & Bike Shop in Downtown Glenwood Springs. Clinics will last from 6pm – 8pm. \n309 9th St. Glenwood Springs CO \nSign up HERE
URL:https://sunlightmtn.com/event/parking-lot-skills-clinic/
LOCATION:Sunlight Mountain\, 10901 County Road 117\, Glenwood Springs\, CO\, 81601\, United States
ATTACH;FMTTYPE=image/jpeg:https://sunlightmtn.com/wp-content/uploads/2026/03/princecreek-6-scaled.jpg
END:VEVENT
BEGIN:VEVENT
DTSTART;TZID=UTC:20260522T180000
DTEND;TZID=UTC:20260522T193000
DTSTAMP:20260420T081759
CREATED:20260326T201217Z
LAST-MODIFIED:20260410T165247Z
UID:10000043-1779472800-1779478200@sunlightmtn.com
SUMMARY:Grandstaff (Half or Full) Group Ride
DESCRIPTION:Meet us at Sunlight Ski & Bike Shop to pedal out at 6 pm or meet at the trailhead around 6:10. \nAll abilities welcome. We will split into skill levels for the ride. You can do the whole staff or the half staff\, whatever your vibe is! \nCold beverages will be provided after the ride. \nSign up HERE
URL:https://sunlightmtn.com/event/grandstaff-half-or-full-group-ride/
LOCATION:CO
ATTACH;FMTTYPE=image/jpeg:https://sunlightmtn.com/wp-content/uploads/2026/03/groupride-7-scaled.jpg
END:VEVENT
BEGIN:VEVENT
DTSTART;TZID=UTC:20260528T180000
DTEND;TZID=UTC:20260528T200000
DTSTAMP:20260420T081759
CREATED:20260326T191413Z
LAST-MODIFIED:20260410T165245Z
UID:10000040-1779991200-1779998400@sunlightmtn.com
SUMMARY:On Trail Repairs & Hacks Clinic
DESCRIPTION:Get yourself home riding your bike and not pushing it. \n\nLearn quick fixes and hacks for when you break down on the trail\nTopics\n\nFlat tire\nBroken spoke\nBrake fade\nShifting problems\nBroken chain\n\n\n\n  \nDoors open for a light social hour at 5:30 pm at Sunlight Ski & Bike Shop in Downtown Glenwood Springs. Clinics will last from 6pm – 8pm. \n309 9th St. Glenwood Springs CO \nSign up HERE
URL:https://sunlightmtn.com/event/on-trail-repairs-hacks-clinic/
LOCATION:Sunlight Mountain\, 10901 County Road 117\, Glenwood Springs\, CO\, 81601\, United States
ATTACH;FMTTYPE=image/jpeg:https://sunlightmtn.com/wp-content/uploads/2026/03/groupride-8.jpg
END:VEVENT
BEGIN:VEVENT
DTSTART;TZID=UTC:20260529T180000
DTEND;TZID=UTC:20260529T203000
DTSTAMP:20260420T081759
CREATED:20260326T192818Z
LAST-MODIFIED:20260410T165244Z
UID:10000041-1780077600-1780086600@sunlightmtn.com
SUMMARY:Corner Like a Pro (Eventually) Clinic & Group Ride
DESCRIPTION:On trail clinic at CMC\nFollow up to our parking lot cornering clinic on 5/29(did not have to attend the parking lot clinic to participate)\nThe group will be split into beginner and advanced cornering groups\nTopics\n\nBraking into the corner\nSupported cornering (berms)\nFlat cornering\nOff camber cornering\nBike body separation \n\n\n\n  \nDoors open for a light social hour at 5:30 pm at Sunlight Ski & Bike Shop in Downtown Glenwood Springs. Clinics will last from 6pm – 8pm. \n309 9th St. Glenwood Springs CO \nSign up HERE
URL:https://sunlightmtn.com/event/corner-like-a-pro-eventually-clinic/
LOCATION:Sunlight Mountain\, 10901 County Road 117\, Glenwood Springs\, CO\, 81601\, United States
ATTACH;FMTTYPE=image/jpeg:https://sunlightmtn.com/wp-content/uploads/2026/03/IMG_0654-scaled.jpg
END:VEVENT
BEGIN:VEVENT
DTSTART;TZID=UTC:20260605T180000
DTEND;TZID=UTC:20260605T193000
DTSTAMP:20260420T081759
CREATED:20260326T202450Z
LAST-MODIFIED:20260410T165242Z
UID:10000044-1780682400-1780687800@sunlightmtn.com
SUMMARY:South Canyon Shuttle Laps Group Ride
DESCRIPTION:No pedaling allowed! For this South Canyon Session we will be shuttling to the start of the trail from the dump road. \nAll abilities welcome. We will split into skill levels for the ride. \nBe at Sunlight Ski and Bike Shop at 5:45 to carpool\, or meet at the trailhead by 6 pm. \nCold beverages will be provided after the ride. \nSign up HERE
URL:https://sunlightmtn.com/event/south-canyon-shuttle-laps-group-ride/
LOCATION:CO
ATTACH;FMTTYPE=image/jpeg:https://sunlightmtn.com/wp-content/uploads/2026/03/groupride-16.jpg
END:VEVENT
BEGIN:VEVENT
DTSTART;TZID=UTC:20261003T110000
DTEND;TZID=UTC:20261003T130000
DTSTAMP:20260420T081759
CREATED:20260326T202817Z
LAST-MODIFIED:20260410T165241Z
UID:10000045-1791025200-1791032400@sunlightmtn.com
SUMMARY:Leaf Peep Group Ride
DESCRIPTION:Meet in the Sunlight parking lot at 10:45 with plans to ride at 11:00 am. \nAll abilities welcome! This will be a choose your own adventure ride\, you can choose to ride as little or as much as you like while you take in the peak colors in the beautiful Babbish Gulch. \nSign up HERE
URL:https://sunlightmtn.com/event/leaf-peep-group-ride/
LOCATION:CO
ATTACH;FMTTYPE=image/jpeg:https://sunlightmtn.com/wp-content/uploads/2026/03/ColorRace24-10-scaled.jpg
END:VEVENT
END:VCALENDAR